BEGIN:VCALENDAR
VERSION:2.0
PRODID:-//Damp Veranstaltungskalender - ECPv6.15.20//NONSGML v1.0//EN
CALSCALE:GREGORIAN
METHOD:PUBLISH
X-WR-CALNAME:Damp Veranstaltungskalender
X-ORIGINAL-URL:https://damp-events.de
X-WR-CALDESC:Veranstaltungen für Damp Veranstaltungskalender
REFRESH-INTERVAL;VALUE=DURATION:PT1H
X-Robots-Tag:noindex
X-PUBLISHED-TTL:PT1H
BEGIN:VTIMEZONE
TZID:Europe/Berlin
BEGIN:DAYLIGHT
TZOFFSETFROM:+0100
TZOFFSETTO:+0200
TZNAME:CEST
DTSTART:20250330T010000
END:DAYLIGHT
BEGIN:STANDARD
TZOFFSETFROM:+0200
TZOFFSETTO:+0100
TZNAME:CET
DTSTART:20251026T010000
END:STANDARD
BEGIN:DAYLIGHT
TZOFFSETFROM:+0100
TZOFFSETTO:+0200
TZNAME:CEST
DTSTART:20260329T010000
END:DAYLIGHT
BEGIN:STANDARD
TZOFFSETFROM:+0200
TZOFFSETTO:+0100
TZNAME:CET
DTSTART:20261025T010000
END:STANDARD
BEGIN:DAYLIGHT
TZOFFSETFROM:+0100
TZOFFSETTO:+0200
TZNAME:CEST
DTSTART:20270328T010000
END:DAYLIGHT
BEGIN:STANDARD
TZOFFSETFROM:+0200
TZOFFSETTO:+0100
TZNAME:CET
DTSTART:20271031T010000
END:STANDARD
END:VTIMEZONE
BEGIN:VEVENT
DTSTART;TZID=Europe/Berlin:20260421T090000
DTEND;TZID=Europe/Berlin:20260421T103000
DTSTAMP:20260421T121415
CREATED:20260215T104731Z
LAST-MODIFIED:20260215T104731Z
UID:10000858-1776762000-1776767400@damp-events.de
SUMMARY:Krabbelgruppe Vogelsang
DESCRIPTION:
URL:https://damp-events.de/veranstaltung/krabbelgruppe-vogelsang-10
LOCATION:Familienzentrum im TreffPunktDamp\, Am Sportplatz 8\, 24351 Damp
CATEGORIES:Krabbelgruppe
END:VEVENT
BEGIN:VEVENT
DTSTART;TZID=Europe/Berlin:20260421T140000
DTEND;TZID=Europe/Berlin:20260421T160000
DTSTAMP:20260421T121415
CREATED:20260220T093453Z
LAST-MODIFIED:20260220T093453Z
UID:10000934-1776780000-1776787200@damp-events.de
SUMMARY:Gartenprojekt
DESCRIPTION:
URL:https://damp-events.de/veranstaltung/gartenprojekt-3
LOCATION:Gemeinschaftsgarten\, St. Johannes Stift\, 24351 Damp
CATEGORIES:Gemeinschaftsgarten
END:VEVENT
END:VCALENDAR