BEGIN:VCALENDAR
VERSION:2.0
PRODID:-//Damp Veranstaltungskalender - ECPv6.15.20//NONSGML v1.0//EN
CALSCALE:GREGORIAN
METHOD:PUBLISH
X-WR-CALNAME:Damp Veranstaltungskalender
X-ORIGINAL-URL:https://damp-events.de
X-WR-CALDESC:Veranstaltungen für Damp Veranstaltungskalender
REFRESH-INTERVAL;VALUE=DURATION:PT1H
X-Robots-Tag:noindex
X-PUBLISHED-TTL:PT1H
BEGIN:VTIMEZONE
TZID:Europe/Berlin
BEGIN:DAYLIGHT
TZOFFSETFROM:+0100
TZOFFSETTO:+0200
TZNAME:CEST
DTSTART:20250330T010000
END:DAYLIGHT
BEGIN:STANDARD
TZOFFSETFROM:+0200
TZOFFSETTO:+0100
TZNAME:CET
DTSTART:20251026T010000
END:STANDARD
BEGIN:DAYLIGHT
TZOFFSETFROM:+0100
TZOFFSETTO:+0200
TZNAME:CEST
DTSTART:20260329T010000
END:DAYLIGHT
BEGIN:STANDARD
TZOFFSETFROM:+0200
TZOFFSETTO:+0100
TZNAME:CET
DTSTART:20261025T010000
END:STANDARD
BEGIN:DAYLIGHT
TZOFFSETFROM:+0100
TZOFFSETTO:+0200
TZNAME:CEST
DTSTART:20270328T010000
END:DAYLIGHT
BEGIN:STANDARD
TZOFFSETFROM:+0200
TZOFFSETTO:+0100
TZNAME:CET
DTSTART:20271031T010000
END:STANDARD
END:VTIMEZONE
BEGIN:VEVENT
DTSTART;TZID=Europe/Berlin:20260415T150000
DTEND;TZID=Europe/Berlin:20260415T180000
DTSTAMP:20260420T110308
CREATED:20260217T121457Z
LAST-MODIFIED:20260217T121457Z
UID:10000901-1776265200-1776276000@damp-events.de
SUMMARY:Jugendraum 8- bis 14-Jährige
DESCRIPTION:
URL:https://damp-events.de/veranstaltung/jugendraum-8-bis-14-jaehrige-7
LOCATION:Jugendraum im TreffPunktDamp\, Am Sportplatz 8\, 24351 Damp
CATEGORIES:Jugendraum ab 8 Jahre
END:VEVENT
BEGIN:VEVENT
DTSTART;TZID=Europe/Berlin:20260415T170000
DTEND;TZID=Europe/Berlin:20260415T190000
DTSTAMP:20260420T110308
CREATED:20260217T123329Z
LAST-MODIFIED:20260217T123329Z
UID:10000923-1776272400-1776279600@damp-events.de
SUMMARY:Jugend-Treff für 14- bis 18-Jährig
DESCRIPTION:
URL:https://damp-events.de/veranstaltung/jugend-treff-fuer-14-bis-18-jaehrig-3
LOCATION:Jugendraum im TreffPunktDamp\, Am Sportplatz 8\, 24351 Damp
CATEGORIES:Familienzentrum,Jugendraum ab 14 Jahre
END:VEVENT
END:VCALENDAR